BEGIN:VCALENDAR
VERSION:2.0
PRODID:-//Foundation for Ohio River Education - ECPv6.15.20//NONSGML v1.0//EN
CALSCALE:GREGORIAN
METHOD:PUBLISH
X-WR-CALNAME:Foundation for Ohio River Education
X-ORIGINAL-URL:https://riverlearning.org
X-WR-CALDESC:Events for Foundation for Ohio River Education
REFRESH-INTERVAL;VALUE=DURATION:PT1H
X-Robots-Tag:noindex
X-PUBLISHED-TTL:PT1H
BEGIN:VTIMEZONE
TZID:UTC
BEGIN:STANDARD
TZOFFSETFROM:+0000
TZOFFSETTO:+0000
TZNAME:UTC
DTSTART:20250101T000000
END:STANDARD
END:VTIMEZONE
BEGIN:VEVENT
DTSTART;TZID=UTC:20260505T090000
DTEND;TZID=UTC:20260505T130000
DTSTAMP:20260423T020529
CREATED:20260421T175615Z
LAST-MODIFIED:20260421T180111Z
UID:5178-1777971600-1777986000@riverlearning.org
SUMMARY:Maritime Interaction Day - Pittsburgh\, PA
DESCRIPTION:The FORE team will be on hand for the We Work the Waterways Maritime Interaction Day. This annual event is packed with hands-on activities and educational presentations that introduce students to the maritime industry — many for the very first time. The goal is for every student to leave with a deeper understanding of the industry’s importance and\, hopefully\, inspired to consider a maritime career. \nLearn more at https://weworkthewaterways.com/event/maritime-interaction-day-pittsburgh-pa/.
URL:https://riverlearning.org/calendar-event/maritime-interaction-day-pittsburgh-pa/
LOCATION:Gateway Clipper Fleet @ Station Square\, 350 W Station Sq. Dr.\, Pittsburgh\, PA\, 15219
END:VEVENT
END:VCALENDAR